Package: scviR Version: 1.10.0 Command: /home/biocbuild/bbs-3.22-bioc/R/bin/R CMD build --keep-empty-dirs --no-resave-data --md5 scviR StartedAt: 2025-10-31 20:09:46 -0400 (Fri, 31 Oct 2025) EndedAt: 2025-10-31 20:19:47 -0400 (Fri, 31 Oct 2025) EllapsedTime: 601.5 seconds RetCode: 0 Status: OK PackageFile: scviR_1.10.0.tar.gz PackageFileSize: 3.858 MiB