Package: scuttle Version: 1.20.0 Command: /Library/Frameworks/R.framework/Resources/bin/R CMD INSTALL scuttle StartedAt: 2025-11-17 17:25:08 -0500 (Mon, 17 Nov 2025) EndedAt: 2025-11-17 17:27:27 -0500 (Mon, 17 Nov 2025) EllapsedTime: 139.2 seconds RetCode: 0 Status: OK