Package: scuttle Version: 1.20.0 Command: /Library/Frameworks/R.framework/Resources/bin/R CMD build --keep-empty-dirs --no-resave-data scuttle StartedAt: 2025-11-18 02:08:52 -0500 (Tue, 18 Nov 2025) EndedAt: 2025-11-18 02:13:42 -0500 (Tue, 18 Nov 2025) EllapsedTime: 290.2 seconds RetCode: 0 Status: OK PackageFile: scuttle_1.20.0.tar.gz PackageFileSize: 1006 KiB