Package: scuttle Version: 1.19.0 Command: /Library/Frameworks/R.framework/Resources/bin/R CMD INSTALL scuttle StartedAt: 2025-10-26 15:10:09 -0400 (Sun, 26 Oct 2025) EndedAt: 2025-10-26 15:10:30 -0400 (Sun, 26 Oct 2025) EllapsedTime: 21.5 seconds RetCode: 0 Status: OK