Package: scuttle Version: 1.20.0 Command: /Library/Frameworks/R.framework/Resources/bin/R CMD check --install=check:scuttle.install-out.txt --library=/Library/Frameworks/R.framework/Resources/library --no-vignettes --timings scuttle_1.20.0.tar.gz StartedAt: 2025-11-10 22:18:38 -0500 (Mon, 10 Nov 2025) EndedAt: 2025-11-10 22:20:50 -0500 (Mon, 10 Nov 2025) EllapsedTime: 131.6 seconds RetCode: 0 Status: OK CheckDir: scuttle.Rcheck Warnings: 0