Package: scuttle Version: 1.19.0 Command: /Library/Frameworks/R.framework/Resources/bin/R CMD build --keep-empty-dirs --no-resave-data scuttle StartedAt: 2025-10-26 17:57:21 -0400 (Sun, 26 Oct 2025) EndedAt: 2025-10-26 17:58:32 -0400 (Sun, 26 Oct 2025) EllapsedTime: 70.8 seconds RetCode: 1 Status: ERROR PackageFile: None PackageFileSize: NA