Package: scuttle Version: 1.20.0 Command: /Library/Frameworks/R.framework/Resources/bin/R CMD INSTALL scuttle StartedAt: 2025-11-17 17:28:30 -0500 (Mon, 17 Nov 2025) EndedAt: 2025-11-17 17:28:53 -0500 (Mon, 17 Nov 2025) EllapsedTime: 22.5 seconds RetCode: 0 Status: OK