Package: scuttle Version: 1.20.0 Command: /Library/Frameworks/R.framework/Resources/bin/R CMD check --install=check:scuttle.install-out.txt --library=/Library/Frameworks/R.framework/Resources/library --no-vignettes --timings scuttle_1.20.0.tar.gz StartedAt: 2025-11-18 12:50:13 -0500 (Tue, 18 Nov 2025) EndedAt: 2025-11-18 12:52:57 -0500 (Tue, 18 Nov 2025) EllapsedTime: 164.3 seconds RetCode: 0 Status: OK CheckDir: scuttle.Rcheck Warnings: 0