Package: scuttle Version: 1.20.0 Command: rm -rf scuttle.buildbin-libdir && mkdir scuttle.buildbin-libdir && /Users/biocbuild/BBS/utils/build-universal.sh scuttle_1.20.0.tar.gz /Library/Frameworks/R.framework/Resources/bin/R scuttle.buildbin-libdir StartedAt: 2025-11-18 16:23:37 -0500 (Tue, 18 Nov 2025) EndedAt: 2025-11-18 16:24:07 -0500 (Tue, 18 Nov 2025) EllapsedTime: 29.3 seconds RetCode: 0 Status: OK PackageFile: scuttle_1.20.0.tgz PackageFileSize: 1.281 MiB