Package: scry Version: 1.21.0 Command: /home/biocbuild/bbs-3.22-bioc/R/bin/R CMD INSTALL scry StartedAt: 2025-10-24 16:03:27 -0400 (Fri, 24 Oct 2025) EndedAt: 2025-10-24 16:03:50 -0400 (Fri, 24 Oct 2025) EllapsedTime: 23.4 seconds RetCode: 0 Status: OK