Package: scruff Version: 1.27.1 Command: /home/biocbuild/bbs-3.22-bioc/R/bin/R CMD INSTALL scruff StartedAt: 2025-10-28 15:51:49 -0400 (Tue, 28 Oct 2025) EndedAt: 2025-10-28 15:52:46 -0400 (Tue, 28 Oct 2025) EllapsedTime: 57.7 seconds RetCode: 0 Status: OK