Package: screenCounter Version: 1.10.0 Command: /home/biocbuild/bbs-3.22-bioc/R/bin/R CMD INSTALL screenCounter StartedAt: 2025-10-30 15:18:23 -0400 (Thu, 30 Oct 2025) EndedAt: 2025-10-30 15:19:55 -0400 (Thu, 30 Oct 2025) EllapsedTime: 91.7 seconds RetCode: 0 Status: OK