Package: screenCounter Version: 1.10.0 Command: /home/biocbuild/bbs-3.22-bioc/R/bin/R CMD build --keep-empty-dirs --no-resave-data --md5 screenCounter StartedAt: 2025-10-30 19:58:22 -0400 (Thu, 30 Oct 2025) EndedAt: 2025-10-30 20:00:07 -0400 (Thu, 30 Oct 2025) EllapsedTime: 105.1 seconds RetCode: 0 Status: OK PackageFile: screenCounter_1.10.0.tar.gz PackageFileSize: 295.2 KiB