Package: scrapper Version: 1.4.0 Command: /home/biocbuild/bbs-3.22-bioc/R/bin/R CMD INSTALL scrapper StartedAt: 2025-11-09 15:17:45 -0500 (Sun, 09 Nov 2025) EndedAt: 2025-11-09 15:23:56 -0500 (Sun, 09 Nov 2025) EllapsedTime: 371.2 seconds RetCode: 0 Status: OK