Package: scrapper Version: 1.4.0 Command: /home/biocbuild/bbs-3.22-bioc/R/bin/R CMD build --keep-empty-dirs --no-resave-data --md5 scrapper StartedAt: 2025-11-09 20:05:55 -0500 (Sun, 09 Nov 2025) EndedAt: 2025-11-09 20:14:20 -0500 (Sun, 09 Nov 2025) EllapsedTime: 504.4 seconds RetCode: 0 Status: OK PackageFile: scrapper_1.4.0.tar.gz PackageFileSize: 935.7 KiB