Package: scran Version: 1.37.0 Command: /home/biocbuild/bbs-3.22-bioc/R/bin/R CMD INSTALL scran StartedAt: 2025-10-24 16:03:28 -0400 (Fri, 24 Oct 2025) EndedAt: 2025-10-24 16:04:42 -0400 (Fri, 24 Oct 2025) EllapsedTime: 74.8 seconds RetCode: 0 Status: OK