Package: scran Version: 1.37.0 Command: /home/biocbuild/bbs-3.22-bioc/R/bin/R CMD build --keep-empty-dirs --no-resave-data --md5 scran StartedAt: 2025-10-24 20:04:41 -0400 (Fri, 24 Oct 2025) EndedAt: 2025-10-24 20:07:56 -0400 (Fri, 24 Oct 2025) EllapsedTime: 195.1 seconds RetCode: 0 Status: OK PackageFile: scran_1.37.0.tar.gz PackageFileSize: 1.747 MiB