Package: scran Version: 1.38.0 Command: /Library/Frameworks/R.framework/Resources/bin/R CMD build --keep-empty-dirs --no-resave-data scran StartedAt: 2025-11-03 18:41:44 -0500 (Mon, 03 Nov 2025) EndedAt: 2025-11-03 18:45:23 -0500 (Mon, 03 Nov 2025) EllapsedTime: 219.7 seconds RetCode: 0 Status: OK PackageFile: scran_1.38.0.tar.gz PackageFileSize: 1.83 MiB