Package: scran Version: 1.38.0 Command: rm -rf scran.buildbin-libdir && mkdir scran.buildbin-libdir && /Users/biocbuild/BBS/utils/build-universal.sh scran_1.38.0.tar.gz /Library/Frameworks/R.framework/Resources/bin/R scran.buildbin-libdir StartedAt: 2025-11-04 02:03:11 -0500 (Tue, 04 Nov 2025) EndedAt: 2025-11-04 02:04:47 -0500 (Tue, 04 Nov 2025) EllapsedTime: 95.6 seconds RetCode: 0 Status: OK PackageFile: scran_1.38.0.tgz PackageFileSize: 2.304 MiB