Package: scran Version: 1.37.0 Command: /Library/Frameworks/R.framework/Resources/bin/R CMD INSTALL scran StartedAt: 2025-10-24 15:31:36 -0400 (Fri, 24 Oct 2025) EndedAt: 2025-10-24 15:31:58 -0400 (Fri, 24 Oct 2025) EllapsedTime: 22.9 seconds RetCode: 0 Status: OK