Package: scp Version: 1.20.0 Command: /Library/Frameworks/R.framework/Resources/bin/R CMD build --keep-empty-dirs --no-resave-data scp StartedAt: 2025-11-10 17:40:52 -0500 (Mon, 10 Nov 2025) EndedAt: 2025-11-10 17:42:30 -0500 (Mon, 10 Nov 2025) EllapsedTime: 98.1 seconds RetCode: 0 Status: OK PackageFile: scp_1.20.0.tar.gz PackageFileSize: 8.85 MiB