Package: scoup Version: 1.4.0 Command: /home/biocbuild/bbs-3.22-bioc/R/bin/R CMD INSTALL scoup StartedAt: 2025-11-17 17:15:41 -0500 (Mon, 17 Nov 2025) EndedAt: 2025-11-17 17:15:55 -0500 (Mon, 17 Nov 2025) EllapsedTime: 13.3 seconds RetCode: 0 Status: OK