Package: scoup Version: 1.4.0 Command: /home/biocbuild/bbs-3.22-bioc/R/bin/R CMD build --keep-empty-dirs --no-resave-data --md5 scoup StartedAt: 2025-11-17 23:21:27 -0500 (Mon, 17 Nov 2025) EndedAt: 2025-11-17 23:21:49 -0500 (Mon, 17 Nov 2025) EllapsedTime: 22.0 seconds RetCode: 0 Status: OK PackageFile: scoup_1.4.0.tar.gz PackageFileSize: 336.8 KiB