Package: scone Version: 1.34.0 Command: /home/biocbuild/bbs-3.22-bioc/R/bin/R CMD INSTALL scone StartedAt: 2025-11-17 18:08:32 -0500 (Mon, 17 Nov 2025) EndedAt: 2025-11-17 18:09:28 -0500 (Mon, 17 Nov 2025) EllapsedTime: 56.4 seconds RetCode: 0 Status: OK