Package: scone Version: 1.34.0 Command: /home/biocbuild/bbs-3.22-bioc/R/bin/R CMD build --keep-empty-dirs --no-resave-data --md5 scone StartedAt: 2025-11-17 23:20:54 -0500 (Mon, 17 Nov 2025) EndedAt: 2025-11-17 23:23:14 -0500 (Mon, 17 Nov 2025) EllapsedTime: 140.1 seconds RetCode: 0 Status: OK PackageFile: scone_1.34.0.tar.gz PackageFileSize: 1.77 MiB