Package: scmeth Version: 1.29.1 Command: /home/biocbuild/bbs-3.22-bioc/R/bin/R CMD INSTALL scmeth StartedAt: 2025-10-03 15:41:51 -0400 (Fri, 03 Oct 2025) EndedAt: 2025-10-03 15:42:36 -0400 (Fri, 03 Oct 2025) EllapsedTime: 44.7 seconds RetCode: 0 Status: OK