Package: scmeth Version: 1.29.1 Command: /home/biocbuild/bbs-3.22-bioc/R/bin/R CMD build --keep-empty-dirs --no-resave-data --md5 scmeth StartedAt: 2025-10-03 19:52:30 -0400 (Fri, 03 Oct 2025) EndedAt: 2025-10-03 19:53:56 -0400 (Fri, 03 Oct 2025) EllapsedTime: 86.1 seconds RetCode: 0 Status: OK PackageFile: scmeth_1.29.1.tar.gz PackageFileSize: 770.6 KiB