Package: scmeth Version: 1.30.0 Command: /Library/Frameworks/R.framework/Resources/bin/R CMD build --keep-empty-dirs --no-resave-data scmeth StartedAt: 2025-11-10 17:40:15 -0500 (Mon, 10 Nov 2025) EndedAt: 2025-11-10 17:40:56 -0500 (Mon, 10 Nov 2025) EllapsedTime: 40.5 seconds RetCode: 0 Status: OK PackageFile: scmeth_1.30.0.tar.gz PackageFileSize: 775.7 KiB