Package: scmeth Version: 1.30.0 Command: rm -rf scmeth.buildbin-libdir && mkdir scmeth.buildbin-libdir && /Users/biocbuild/BBS/utils/build-universal.sh scmeth_1.30.0.tar.gz /Library/Frameworks/R.framework/Resources/bin/R scmeth.buildbin-libdir StartedAt: 2025-11-10 23:35:52 -0500 (Mon, 10 Nov 2025) EndedAt: 2025-11-10 23:36:12 -0500 (Mon, 10 Nov 2025) EllapsedTime: 20.4 seconds RetCode: 0 Status: OK PackageFile: scmeth_1.30.0.tgz PackageFileSize: 823.4 KiB