Package: scifer Version: 1.12.0 Command: /Library/Frameworks/R.framework/Resources/bin/R CMD INSTALL scifer StartedAt: 2025-10-31 15:50:09 -0400 (Fri, 31 Oct 2025) EndedAt: 2025-10-31 15:50:34 -0400 (Fri, 31 Oct 2025) EllapsedTime: 24.7 seconds RetCode: 0 Status: OK