Package: scifer Version: 1.12.0 Command: /Library/Frameworks/R.framework/Resources/bin/R CMD build --keep-empty-dirs --no-resave-data scifer StartedAt: 2025-10-31 18:42:15 -0400 (Fri, 31 Oct 2025) EndedAt: 2025-10-31 18:45:49 -0400 (Fri, 31 Oct 2025) EllapsedTime: 215.0 seconds RetCode: 0 Status: OK PackageFile: scifer_1.12.0.tar.gz PackageFileSize: 1.526 MiB