Package: scifer Version: 1.12.0 Command: rm -rf scifer.buildbin-libdir && mkdir scifer.buildbin-libdir && /Users/biocbuild/BBS/utils/build-universal.sh scifer_1.12.0.tar.gz /Library/Frameworks/R.framework/Resources/bin/R scifer.buildbin-libdir StartedAt: 2025-11-01 01:56:25 -0400 (Sat, 01 Nov 2025) EndedAt: 2025-11-01 01:56:55 -0400 (Sat, 01 Nov 2025) EllapsedTime: 30.1 seconds RetCode: 0 Status: OK PackageFile: scifer_1.12.0.tgz PackageFileSize: 1.562 MiB