Package: scifer Version: 1.11.5 Command: /Library/Frameworks/R.framework/Resources/bin/R CMD INSTALL scifer StartedAt: 2025-10-24 15:29:16 -0400 (Fri, 24 Oct 2025) EndedAt: 2025-10-24 15:29:23 -0400 (Fri, 24 Oct 2025) EllapsedTime: 7.3 seconds RetCode: 0 Status: OK