Package: scifer Version: 1.11.5 Command: /Library/Frameworks/R.framework/Resources/bin/R CMD build --keep-empty-dirs --no-resave-data scifer StartedAt: 2025-10-24 17:39:42 -0400 (Fri, 24 Oct 2025) EndedAt: 2025-10-24 17:40:16 -0400 (Fri, 24 Oct 2025) EllapsedTime: 33.4 seconds RetCode: 0 Status: OK PackageFile: scifer_1.11.5.tar.gz PackageFileSize: 1.524 MiB