Package: scifer Version: 1.12.0 Maintainer: Rodrigo Arcoverde Cerveira MaintainerEmail: rodrigo.arcoverdi at gmail.com git_url: https://git.bioconductor.org/packages/scifer git_branch: RELEASE_3_22 git_last_commit: e09cc12 git_last_commit_date: 2025-10-29 11:18:43 -0500 (Wed, 29 Oct 2025)