Package: scider Version: 1.8.0 Command: /home/biocbuild/bbs-3.22-bioc/R/bin/R CMD INSTALL scider StartedAt: 2025-11-03 15:20:43 -0500 (Mon, 03 Nov 2025) EndedAt: 2025-11-03 15:21:18 -0500 (Mon, 03 Nov 2025) EllapsedTime: 35.1 seconds RetCode: 0 Status: OK