Package: schex Version: 1.24.0 Command: /Library/Frameworks/R.framework/Resources/bin/R CMD INSTALL schex StartedAt: 2025-11-06 15:14:32 -0500 (Thu, 06 Nov 2025) EndedAt: 2025-11-06 15:14:43 -0500 (Thu, 06 Nov 2025) EllapsedTime: 11.4 seconds RetCode: 0 Status: OK