Package: schex Version: 1.24.0 Command: /Library/Frameworks/R.framework/Resources/bin/R CMD build --keep-empty-dirs --no-resave-data schex StartedAt: 2025-11-06 17:38:45 -0500 (Thu, 06 Nov 2025) EndedAt: 2025-11-06 17:39:27 -0500 (Thu, 06 Nov 2025) EllapsedTime: 42.5 seconds RetCode: 0 Status: OK PackageFile: schex_1.24.0.tar.gz PackageFileSize: 3.693 MiB