Package: scds Version: 1.26.0 Command: /home/biocbuild/bbs-3.22-bioc/R/bin/R CMD INSTALL scds StartedAt: 2025-10-31 15:27:19 -0400 (Fri, 31 Oct 2025) EndedAt: 2025-10-31 15:27:44 -0400 (Fri, 31 Oct 2025) EllapsedTime: 25.0 seconds RetCode: 0 Status: OK