Package: scds Version: 1.26.0 Command: /home/biocbuild/bbs-3.22-bioc/R/bin/R CMD build --keep-empty-dirs --no-resave-data --md5 scds StartedAt: 2025-11-03 19:55:08 -0500 (Mon, 03 Nov 2025) EndedAt: 2025-11-03 19:56:00 -0500 (Mon, 03 Nov 2025) EllapsedTime: 52.1 seconds RetCode: 0 Status: OK PackageFile: scds_1.26.0.tar.gz PackageFileSize: 1.384 MiB