Package: scde Version: 2.38.0 Command: /home/biocbuild/bbs-3.22-bioc/R/bin/R CMD INSTALL scde StartedAt: 2025-11-16 15:13:57 -0500 (Sun, 16 Nov 2025) EndedAt: 2025-11-16 15:14:49 -0500 (Sun, 16 Nov 2025) EllapsedTime: 52.2 seconds RetCode: 0 Status: OK