Package: sccomp Version: 2.1.18 Command: /home/biocbuild/bbs-3.22-bioc/R/bin/R CMD INSTALL sccomp StartedAt: 2025-10-24 15:29:58 -0400 (Fri, 24 Oct 2025) EndedAt: 2025-10-24 15:30:30 -0400 (Fri, 24 Oct 2025) EllapsedTime: 32.2 seconds RetCode: 0 Status: OK