Package: sccomp Version: 2.1.18 Command: /home/biocbuild/bbs-3.22-bioc/R/bin/R CMD build --keep-empty-dirs --no-resave-data --md5 sccomp StartedAt: 2025-10-24 19:59:03 -0400 (Fri, 24 Oct 2025) EndedAt: 2025-10-24 20:00:04 -0400 (Fri, 24 Oct 2025) EllapsedTime: 61.1 seconds RetCode: 0 Status: OK PackageFile: sccomp_2.1.18.tar.gz PackageFileSize: 2.694 MiB