Package: scater Version: 1.38.0 Command: /home/biocbuild/bbs-3.22-bioc/R/bin/R CMD INSTALL scater StartedAt: 2025-11-17 18:11:05 -0500 (Mon, 17 Nov 2025) EndedAt: 2025-11-17 18:11:35 -0500 (Mon, 17 Nov 2025) EllapsedTime: 29.8 seconds RetCode: 0 Status: OK