Package: scanMiRApp Version: 1.16.0 Command: /Library/Frameworks/R.framework/Resources/bin/R CMD INSTALL scanMiRApp StartedAt: 2025-11-10 15:28:16 -0500 (Mon, 10 Nov 2025) EndedAt: 2025-11-10 15:28:35 -0500 (Mon, 10 Nov 2025) EllapsedTime: 19.2 seconds RetCode: 0 Status: OK