Package: scTreeViz Version: 1.16.0 Command: /Library/Frameworks/R.framework/Resources/bin/R CMD INSTALL scTreeViz StartedAt: 2025-11-02 15:56:42 -0500 (Sun, 02 Nov 2025) EndedAt: 2025-11-02 15:58:13 -0500 (Sun, 02 Nov 2025) EllapsedTime: 90.5 seconds RetCode: 0 Status: OK