Package: scTreeViz Version: 1.16.0 Command: /Library/Frameworks/R.framework/Resources/bin/R CMD build --keep-empty-dirs --no-resave-data scTreeViz StartedAt: 2025-10-31 18:46:46 -0400 (Fri, 31 Oct 2025) EndedAt: 2025-10-31 18:49:26 -0400 (Fri, 31 Oct 2025) EllapsedTime: 159.7 seconds RetCode: 0 Status: OK PackageFile: scTreeViz_1.16.0.tar.gz PackageFileSize: 2.299 MiB