Package: scTensor Version: 2.19.2 Command: /home/biocbuild/bbs-3.22-bioc/R/bin/R CMD build --keep-empty-dirs --no-resave-data --md5 scTensor StartedAt: 2025-10-27 19:59:15 -0400 (Mon, 27 Oct 2025) EndedAt: 2025-10-27 20:01:06 -0400 (Mon, 27 Oct 2025) EllapsedTime: 111.1 seconds RetCode: 0 Status: OK PackageFile: scTensor_2.19.2.tar.gz PackageFileSize: 10.31 MiB