Package: scTensor Version: 2.20.0 Command: /Library/Frameworks/R.framework/Resources/bin/R CMD build --keep-empty-dirs --no-resave-data scTensor StartedAt: 2025-11-10 17:42:26 -0500 (Mon, 10 Nov 2025) EndedAt: 2025-11-10 17:43:26 -0500 (Mon, 10 Nov 2025) EllapsedTime: 60.7 seconds RetCode: 0 Status: OK PackageFile: scTensor_2.20.0.tar.gz PackageFileSize: 10.49 MiB