Package: scTensor Version: 2.20.0 Command: rm -rf scTensor.buildbin-libdir && mkdir scTensor.buildbin-libdir && /Users/biocbuild/BBS/utils/build-universal.sh scTensor_2.20.0.tar.gz /Library/Frameworks/R.framework/Resources/bin/R scTensor.buildbin-libdir StartedAt: 2025-11-10 23:36:13 -0500 (Mon, 10 Nov 2025) EndedAt: 2025-11-10 23:36:45 -0500 (Mon, 10 Nov 2025) EllapsedTime: 32.6 seconds RetCode: 0 Status: OK PackageFile: scTensor_2.20.0.tgz PackageFileSize: 5.882 MiB